BEGIN:VCALENDAR
VERSION:2.0
PRODID:-//Advanced Intellect//aspNetEmail Calendar Writer(v4.0.0.57)//EN
METHOD:POST
BEGIN:VTIMEZONE
LAST-MODIFIED:20260423T080841Z
TZID:Eastern Standard Time
BEGIN:STANDARD
DTSTART:16010101T030000
TZOFFSETFROM:-0400
TZOFFSETTO:-0500
TZNAME:EST
RRULE:FREQ=YEARLY;BYMONTH=11;BYDAY=1SU
END:STANDARD
BEGIN:DAYLIGHT
DTSTART:16010101T020000
TZOFFSETFROM:-0500
TZOFFSETTO:-0400
TZNAME:EDT
RRULE:FREQ=YEARLY;BYMONTH=3;BYDAY=2SU
END:DAYLIGHT
END:VTIMEZONE
BEGIN:VEVENT
DTSTART;TZID="Eastern Standard Time":20250626T183000
DTEND;TZID="Eastern Standard Time":20250626T200000
UID:740287f1-20f3-4c51-903c-d3e62d5ffc0d
CREATED:20260423T120841Z
DTSTAMP:20260423T120841Z
LAST-MODIFIED:20260423T120841Z
DESCRIPTION:My Vineyard Columbus\n\nFreedUp is a stewardship training
  program for churches and families. It offers culturally current
  resources to help guide and equip believers to manage money in
  healthier ways\, through biblical wisdom. It's for people in any
  financial situation\, from in-debt to wealthy. This 6-week course
  contains self-paced portions and group discussion to create a well
  rounded learning experience. The FreedUp app contains teachings
  that address some of the components of financial stewardship\,
  including Earning\, Giving\, Saving\, Spending\, and Debt. The
  group discussion centers more around processing what we've learned
  and jumpstarting the practice of talking about finances together.
  \nOnce you've registered\, please visit the website purchase your
  account and workbook ($20): https://getfreedup.com/product/freedup-workb
 ook-digital-content/
LOCATION:Worship Center - EL.01
SUMMARY:Freed Up Westerville
SEQUENCE:0
STATUS:NEEDS ACTION
END:VEVENT
END:VCALENDAR