BEGIN:VCALENDAR
VERSION:2.0
PRODID:-//Advanced Intellect//aspNetEmail Calendar Writer(v4.0.0.57)//EN
METHOD:POST
BEGIN:VTIMEZONE
LAST-MODIFIED:20260423T082718Z
TZID:Eastern Standard Time
BEGIN:STANDARD
DTSTART:16010101T030000
TZOFFSETFROM:-0400
TZOFFSETTO:-0500
TZNAME:EST
RRULE:FREQ=YEARLY;BYMONTH=11;BYDAY=1SU
END:STANDARD
BEGIN:DAYLIGHT
DTSTART:16010101T020000
TZOFFSETFROM:-0500
TZOFFSETTO:-0400
TZNAME:EDT
RRULE:FREQ=YEARLY;BYMONTH=3;BYDAY=2SU
END:DAYLIGHT
END:VTIMEZONE
BEGIN:VEVENT
DTSTART;TZID="Eastern Standard Time":20250520T183000
DTEND;TZID="Eastern Standard Time":20250520T200000
UID:cb61974a-0f9f-4020-af16-8b61e6aa7221
CREATED:20260423T122718Z
DTSTAMP:20260423T122718Z
LAST-MODIFIED:20260423T122718Z
DESCRIPTION:My Vineyard Columbus\n\nAre you new to Vineyard? Are
  you wondering how you can get started here? Join our "Welcome to
  Vineyard" event to learn about the church and hear how you can
  get connected and involved. You'll hear about the amazing things
  God is doing here and how you can join in our mission today. What
  to expect: Meet our pastors. Enjoy a meal.\n \nPlease register
  for childcare. 
LOCATION:Grandview - GC-103B Classroom
SUMMARY:Welcome To Vineyard - Grandview
SEQUENCE:0
STATUS:NEEDS ACTION
END:VEVENT
END:VCALENDAR