BEGIN:VCALENDAR
VERSION:2.0
PRODID:-//Advanced Intellect//aspNetEmail Calendar Writer(v4.0.0.57)//EN
METHOD:POST
BEGIN:VTIMEZONE
LAST-MODIFIED:20260423T082637Z
TZID:Eastern Standard Time
BEGIN:STANDARD
DTSTART:16010101T030000
TZOFFSETFROM:-0400
TZOFFSETTO:-0500
TZNAME:EST
RRULE:FREQ=YEARLY;BYMONTH=11;BYDAY=1SU
END:STANDARD
BEGIN:DAYLIGHT
DTSTART:16010101T020000
TZOFFSETFROM:-0500
TZOFFSETTO:-0400
TZNAME:EDT
RRULE:FREQ=YEARLY;BYMONTH=3;BYDAY=2SU
END:DAYLIGHT
END:VTIMEZONE
BEGIN:VEVENT
DTSTART;TZID="Eastern Standard Time":20250911T183000
DTEND;TZID="Eastern Standard Time":20250911T203000
UID:edf669d7-4c6e-486c-a9cb-f1537b8dd6ae
CREATED:20260423T122637Z
DTSTAMP:20260423T122637Z
LAST-MODIFIED:20260423T122637Z
DESCRIPTION:My Vineyard Columbus\n\nChildcare registration for
  DivorceCare
LOCATION:Worship Center - Chapel
SUMMARY:Divorce Care
SEQUENCE:0
STATUS:NEEDS ACTION
END:VEVENT
END:VCALENDAR