BEGIN:VCALENDAR
VERSION:2.0
PRODID:-//Advanced Intellect//aspNetEmail Calendar Writer(v4.0.0.57)//EN
METHOD:POST
BEGIN:VTIMEZONE
LAST-MODIFIED:20260424T105741Z
TZID:Eastern Standard Time
BEGIN:STANDARD
DTSTART:16010101T030000
TZOFFSETFROM:-0400
TZOFFSETTO:-0500
TZNAME:EST
RRULE:FREQ=YEARLY;BYMONTH=11;BYDAY=1SU
END:STANDARD
BEGIN:DAYLIGHT
DTSTART:16010101T020000
TZOFFSETFROM:-0500
TZOFFSETTO:-0400
TZNAME:EDT
RRULE:FREQ=YEARLY;BYMONTH=3;BYDAY=2SU
END:DAYLIGHT
END:VTIMEZONE
BEGIN:VEVENT
DTSTART;TZID="Eastern Standard Time":20220501T180000
DTEND;TZID="Eastern Standard Time":20220501T200000
UID:22972217-b293-4b35-b5e3-2a5fcbe2dbff
CREATED:20260424T145741Z
DTSTAMP:20260424T145741Z
LAST-MODIFIED:20260424T145741Z
DESCRIPTION:My Vineyard Columbus\n\nJoin us for this 8 week class
  discovering who the Holy Spirit is in relation to the kingdom of
  God. Topics include: what is the kingdom of God\, who is the Holy
  Spirit\, more of the kingdom\, hearing from God\, partnering with
  the Holy Spirit in healing\, emotional healing\, releasing freedom
  from the Holy Spirit\, and sharing your faith.\n \nPlease register
  for childcare! 
SUMMARY:Life with the Holy Spirit and Kingdom of God - Childcare
  Only
SEQUENCE:0
STATUS:NEEDS ACTION
END:VEVENT
END:VCALENDAR