BEGIN:VCALENDAR
VERSION:2.0
PRODID:-//Advanced Intellect//aspNetEmail Calendar Writer(v4.0.0.57)//EN
METHOD:POST
BEGIN:VTIMEZONE
LAST-MODIFIED:20260420T004930Z
TZID:Eastern Standard Time
BEGIN:STANDARD
DTSTART:16010101T030000
TZOFFSETFROM:-0400
TZOFFSETTO:-0500
TZNAME:EST
RRULE:FREQ=YEARLY;BYMONTH=11;BYDAY=1SU
END:STANDARD
BEGIN:DAYLIGHT
DTSTART:16010101T020000
TZOFFSETFROM:-0500
TZOFFSETTO:-0400
TZNAME:EDT
RRULE:FREQ=YEARLY;BYMONTH=3;BYDAY=2SU
END:DAYLIGHT
END:VTIMEZONE
BEGIN:VEVENT
DTSTART;TZID="Eastern Standard Time":20240310T104500
DTEND;TZID="Eastern Standard Time":20240310T121500
UID:08bbb755-7eb7-48a8-ba54-00768139e974
CREATED:20260420T044930Z
DTSTAMP:20260420T044930Z
LAST-MODIFIED:20260420T044930Z
DESCRIPTION:My Vineyard Columbus\n\nAre you new to Vineyard? Are
  you wondering how you can get started here? Join our "Welcome to
  Vineyard" event to learn about the church and hear how you can
  get connected and involved. You'll hear about the amazing things
  God is doing here and how you can join in our mission today. What
  to expect: Meet our pastors. Enjoy a meal.
LOCATION:Campus: Grandview (777 Goodale Blvd Grandview Heights\,
  OH 43212-3859) Location: GC-125 Classroom 
SUMMARY:Welcome To Vineyard - Grandview
SEQUENCE:0
STATUS:NEEDS ACTION
END:VEVENT
END:VCALENDAR