BEGIN:VCALENDAR
VERSION:2.0
PRODID:-//Advanced Intellect//aspNetEmail Calendar Writer(v4.0.0.57)//EN
METHOD:POST
BEGIN:VTIMEZONE
LAST-MODIFIED:20260422T164123Z
TZID:Eastern Standard Time
BEGIN:STANDARD
DTSTART:16010101T030000
TZOFFSETFROM:-0400
TZOFFSETTO:-0500
TZNAME:EST
RRULE:FREQ=YEARLY;BYMONTH=11;BYDAY=1SU
END:STANDARD
BEGIN:DAYLIGHT
DTSTART:16010101T020000
TZOFFSETFROM:-0500
TZOFFSETTO:-0400
TZNAME:EDT
RRULE:FREQ=YEARLY;BYMONTH=3;BYDAY=2SU
END:DAYLIGHT
END:VTIMEZONE
BEGIN:VEVENT
DTSTART;TZID="Eastern Standard Time":20240712T190000
DTEND;TZID="Eastern Standard Time":20240712T210000
UID:afafd44d-872e-4fa5-a0db-b9462a0bb595
CREATED:20260422T204123Z
DTSTAMP:20260422T204123Z
LAST-MODIFIED:20260422T204123Z
DESCRIPTION:My Vineyard Columbus\n\nThis will be a night for our
  Singles to come out and meet new people\, have some food\, fun...and
  a little friendly competition! The trivia questions will be age-friendly
  grouping\, so every age can have fun! Childcare is available\,
  but you must register yourself and your children.
SUMMARY:Singles Trivia Night and Potluck
SEQUENCE:0
STATUS:NEEDS ACTION
END:VEVENT
END:VCALENDAR