BEGIN:VCALENDAR
VERSION:2.0
PRODID:-//Advanced Intellect//aspNetEmail Calendar Writer(v4.0.0.57)//EN
METHOD:POST
BEGIN:VTIMEZONE
LAST-MODIFIED:20260422T102430Z
TZID:Eastern Standard Time
BEGIN:STANDARD
DTSTART:16010101T030000
TZOFFSETFROM:-0400
TZOFFSETTO:-0500
TZNAME:EST
RRULE:FREQ=YEARLY;BYMONTH=11;BYDAY=1SU
END:STANDARD
BEGIN:DAYLIGHT
DTSTART:16010101T020000
TZOFFSETFROM:-0500
TZOFFSETTO:-0400
TZNAME:EDT
RRULE:FREQ=YEARLY;BYMONTH=3;BYDAY=2SU
END:DAYLIGHT
END:VTIMEZONE
BEGIN:VEVENT
DTSTART;TZID="Eastern Standard Time":20240820T183000
DTEND;TZID="Eastern Standard Time":20240820T203000
UID:9bb7939a-f981-4c99-9141-b3442e1e4203
CREATED:20260422T142430Z
DTSTAMP:20260422T142430Z
LAST-MODIFIED:20260422T142430Z
DESCRIPTION:My Vineyard Columbus\n\nSchedule a weekly date-night
  and join us online for Alpha Us\, a 7-week relationship series
  for married couples. Couples will gather for a video episode &
  extended conversation with their partner. Conversations will occur
  just between the couple. 
SUMMARY:Alpha Us Marriage Course
SEQUENCE:0
STATUS:NEEDS ACTION
END:VEVENT
END:VCALENDAR