BEGIN:VCALENDAR
VERSION:2.0
PRODID:-//Advanced Intellect//aspNetEmail Calendar Writer(v4.0.0.57)//EN
METHOD:POST
BEGIN:VTIMEZONE
LAST-MODIFIED:20260420T064320Z
TZID:Eastern Standard Time
BEGIN:STANDARD
DTSTART:16010101T030000
TZOFFSETFROM:-0400
TZOFFSETTO:-0500
TZNAME:EST
RRULE:FREQ=YEARLY;BYMONTH=11;BYDAY=1SU
END:STANDARD
BEGIN:DAYLIGHT
DTSTART:16010101T020000
TZOFFSETFROM:-0500
TZOFFSETTO:-0400
TZNAME:EDT
RRULE:FREQ=YEARLY;BYMONTH=3;BYDAY=2SU
END:DAYLIGHT
END:VTIMEZONE
BEGIN:VEVENT
DTSTART;TZID="Eastern Standard Time":20240914T100000
DTEND;TZID="Eastern Standard Time":20240914T120000
UID:68d1c79d-efd0-4685-b98d-793d056c494d
CREATED:20260420T104320Z
DTSTAMP:20260420T104320Z
LAST-MODIFIED:20260420T104320Z
DESCRIPTION:My Vineyard Columbus\n\nJoin us for a one-day\, two-hour\,
  conference on multiple topics related to family life! Engaging
  speakers\, amazing food\, and free childcare! \nRegistration is
  required.
LOCATION:Campus: Sawmill (4140 Tuller Rd Dublin\, OH 43017-5013)
  Location: Sawmill Auditorium 
SUMMARY:Family Matters Conference
SEQUENCE:0
STATUS:NEEDS ACTION
END:VEVENT
END:VCALENDAR