BEGIN:VCALENDAR
VERSION:2.0
PRODID:-//Advanced Intellect//aspNetEmail Calendar Writer(v4.0.0.57)//EN
METHOD:POST
BEGIN:VTIMEZONE
LAST-MODIFIED:20260422T014519Z
TZID:Eastern Standard Time
BEGIN:STANDARD
DTSTART:16010101T030000
TZOFFSETFROM:-0400
TZOFFSETTO:-0500
TZNAME:EST
RRULE:FREQ=YEARLY;BYMONTH=11;BYDAY=1SU
END:STANDARD
BEGIN:DAYLIGHT
DTSTART:16010101T020000
TZOFFSETFROM:-0500
TZOFFSETTO:-0400
TZNAME:EDT
RRULE:FREQ=YEARLY;BYMONTH=3;BYDAY=2SU
END:DAYLIGHT
END:VTIMEZONE
BEGIN:VEVENT
DTSTART;TZID="Eastern Standard Time":20241026T170000
DTEND;TZID="Eastern Standard Time":20241026T183000
UID:2b1c355d-8f5a-402f-8280-07d1d80fe6fe
CREATED:20260422T054519Z
DTSTAMP:20260422T054519Z
LAST-MODIFIED:20260422T054519Z
DESCRIPTION:My Vineyard Columbus\n\n\nWe are excited to gather
  together as small group leaders to enjoy a meal together and hear
  an encouraging word from guest speaker Alexander Venter. You will
  need to register to join us as we have a time of connection during
  our Holy Spirit conference.\n \nNOTE: Registration for the Small
  Group Leader's Dinner is full.
SUMMARY:HSC 2024 - SGL Dinner
SEQUENCE:0
STATUS:NEEDS ACTION
END:VEVENT
END:VCALENDAR