BEGIN:VCALENDAR
VERSION:2.0
PRODID:-//Advanced Intellect//aspNetEmail Calendar Writer(v4.0.0.57)//EN
METHOD:POST
BEGIN:VTIMEZONE
LAST-MODIFIED:20260423T092028Z
TZID:Eastern Standard Time
BEGIN:STANDARD
DTSTART:16010101T030000
TZOFFSETFROM:-0400
TZOFFSETTO:-0500
TZNAME:EST
RRULE:FREQ=YEARLY;BYMONTH=11;BYDAY=1SU
END:STANDARD
BEGIN:DAYLIGHT
DTSTART:16010101T020000
TZOFFSETFROM:-0500
TZOFFSETTO:-0400
TZNAME:EDT
RRULE:FREQ=YEARLY;BYMONTH=3;BYDAY=2SU
END:DAYLIGHT
END:VTIMEZONE
BEGIN:VEVENT
DTSTART;TZID="Eastern Standard Time":20241214T090000
DTEND;TZID="Eastern Standard Time":20241214T140000
UID:d6f06777-0089-497a-9dcb-8fe15e31cbbb
CREATED:20260423T132028Z
DTSTAMP:20260423T132028Z
LAST-MODIFIED:20260423T132028Z
DESCRIPTION:My Vineyard Columbus\n\nTriannual small group leader
  training for anyone who is interested in becoming a small group
  leader for the first time\, or any existing leaders that would
  like a refresher! Registration is required.
LOCATION:Campus: Westerville (6000 Cooper Rd Westerville\, OH 43081-8984)
  Building: Worship Center Location: EL.01 
SUMMARY:Small Group Leadership Training
SEQUENCE:0
STATUS:NEEDS ACTION
END:VEVENT
END:VCALENDAR