BEGIN:VCALENDAR
VERSION:2.0
PRODID:-//Advanced Intellect//aspNetEmail Calendar Writer(v4.0.0.57)//EN
METHOD:POST
BEGIN:VTIMEZONE
LAST-MODIFIED:20260419T163651Z
TZID:Eastern Standard Time
BEGIN:STANDARD
DTSTART:16010101T030000
TZOFFSETFROM:-0400
TZOFFSETTO:-0500
TZNAME:EST
RRULE:FREQ=YEARLY;BYMONTH=11;BYDAY=1SU
END:STANDARD
BEGIN:DAYLIGHT
DTSTART:16010101T020000
TZOFFSETFROM:-0500
TZOFFSETTO:-0400
TZNAME:EDT
RRULE:FREQ=YEARLY;BYMONTH=3;BYDAY=2SU
END:DAYLIGHT
END:VTIMEZONE
BEGIN:VEVENT
DTSTART;TZID="Eastern Standard Time":20250217T183000
DTEND;TZID="Eastern Standard Time":20250217T203000
UID:4cac13b1-bba7-400e-b80f-8b088c33275c
CREATED:20260419T203651Z
DTSTAMP:20260419T203651Z
LAST-MODIFIED:20260419T203651Z
DESCRIPTION:My Vineyard Columbus\n\nOver the past year\, you've
  heard us talk a lot about taking time to consecrate ourselves\,
  discern\, and pray. We've talked with you about 'getting low\,
  getting clean\, and getting still'. Over the winter\, we felt the
  Lord's stirring and as we have continued to work towards some clarity\,
  we believe\, along with our leadership team\, our church counsel\,
  our campus pastors\, and our pastoral staff... that God has given
  us a pretty amazing redemptive quest to venture out on!  Would
  you please make plans to join Eric and I for an evening with other
  leaders from your campus community? We want to tell you the story
  of what God is speaking\, which I believe will confirm what is
  already in many of your hearts. And we want to invite you to get
  curious\, get creative\, and lean into hope as we step out in faith
  alongside one another.
LOCATION:Campus: Pickerington (333 Jericho Rd Pickerington\, OH 43147)
  Building: East Location: East Auditorium 
SUMMARY:All Leaders Gathering - Pickerington
SEQUENCE:0
STATUS:NEEDS ACTION
END:VEVENT
END:VCALENDAR