BEGIN:VCALENDAR
VERSION:2.0
PRODID:-//Advanced Intellect//aspNetEmail Calendar Writer(v4.0.0.57)//EN
METHOD:POST
BEGIN:VTIMEZONE
LAST-MODIFIED:20260425T172753Z
TZID:Eastern Standard Time
BEGIN:STANDARD
DTSTART:16010101T030000
TZOFFSETFROM:-0400
TZOFFSETTO:-0500
TZNAME:EST
RRULE:FREQ=YEARLY;BYMONTH=11;BYDAY=1SU
END:STANDARD
BEGIN:DAYLIGHT
DTSTART:16010101T020000
TZOFFSETFROM:-0500
TZOFFSETTO:-0400
TZNAME:EDT
RRULE:FREQ=YEARLY;BYMONTH=3;BYDAY=2SU
END:DAYLIGHT
END:VTIMEZONE
BEGIN:VEVENT
DTSTART;TZID="Eastern Standard Time":20250205T190000
DTEND;TZID="Eastern Standard Time":20250205T203000
UID:dbb5aa69-38af-4466-935e-214355157b2e
CREATED:20260425T212753Z
DTSTAMP:20260425T212753Z
LAST-MODIFIED:20260425T212753Z
DESCRIPTION:My Vineyard Columbus\n\nTake Heart is a support group
  that is focused around providing support and resources to members
  who are affected by a cancer diagnosis\, loss\, and treatment.
LOCATION:Campus: Westerville (6000 Cooper Rd Westerville\, OH 43081-8984)
  Building: Worship Center Location: EL.03 
SUMMARY:Take Heart
SEQUENCE:0
STATUS:NEEDS ACTION
END:VEVENT
END:VCALENDAR