BEGIN:VCALENDAR
VERSION:2.0
PRODID:-//Advanced Intellect//aspNetEmail Calendar Writer(v4.0.0.57)//EN
METHOD:POST
BEGIN:VTIMEZONE
LAST-MODIFIED:20260423T110401Z
TZID:Eastern Standard Time
BEGIN:STANDARD
DTSTART:16010101T030000
TZOFFSETFROM:-0400
TZOFFSETTO:-0500
TZNAME:EST
RRULE:FREQ=YEARLY;BYMONTH=11;BYDAY=1SU
END:STANDARD
BEGIN:DAYLIGHT
DTSTART:16010101T020000
TZOFFSETFROM:-0500
TZOFFSETTO:-0400
TZNAME:EDT
RRULE:FREQ=YEARLY;BYMONTH=3;BYDAY=2SU
END:DAYLIGHT
END:VTIMEZONE
BEGIN:VEVENT
DTSTART;TZID="Eastern Standard Time":20250427T140000
DTEND;TZID="Eastern Standard Time":20250427T150000
UID:c0ff825f-0b2d-4b5e-b67b-3caa9aac80a7
CREATED:20260423T150401Z
DTSTAMP:20260423T150401Z
LAST-MODIFIED:20260423T150401Z
DESCRIPTION:My Vineyard Columbus\n\nWelcome\, parents and caregivers.
  We are excited that you have chosen to make this commitment before
  the Lord and the church to dedicate your child. This class we’ll
  go over your next steps and highlight the importance of dedication
  and bringing your child to church. 
SUMMARY:Baby Dedication Class
SEQUENCE:0
STATUS:NEEDS ACTION
END:VEVENT
END:VCALENDAR