BEGIN:VCALENDAR
VERSION:2.0
PRODID:-//Advanced Intellect//aspNetEmail Calendar Writer(v4.0.0.57)//EN
METHOD:POST
BEGIN:VTIMEZONE
LAST-MODIFIED:20260424T132545Z
TZID:Eastern Standard Time
BEGIN:STANDARD
DTSTART:16010101T030000
TZOFFSETFROM:-0400
TZOFFSETTO:-0500
TZNAME:EST
RRULE:FREQ=YEARLY;BYMONTH=11;BYDAY=1SU
END:STANDARD
BEGIN:DAYLIGHT
DTSTART:16010101T020000
TZOFFSETFROM:-0500
TZOFFSETTO:-0400
TZNAME:EDT
RRULE:FREQ=YEARLY;BYMONTH=3;BYDAY=2SU
END:DAYLIGHT
END:VTIMEZONE
BEGIN:VEVENT
DTSTART;TZID="Eastern Standard Time":20250313T183000
DTEND;TZID="Eastern Standard Time":20250417T203000
UID:50569e3e-1b36-492a-988a-9724fd15c295
CREATED:20260424T172545Z
DTSTAMP:20260424T172545Z
LAST-MODIFIED:20260424T172545Z
DESCRIPTION:My Vineyard Columbus\n\nThis Lent\, join Pastor Insoo
  and Pastor TJ on Thursday nights for Lent Discipleship Nights—an
  immersive journey into the way of Jesus. Through Bible study\,
  meaningful discussion\, and hands-on opportunities to serve in
  our city\, you’ll not only learn about discipleship—you’ll live
  it. Come ready to grow\, challenge yourself\, and experience the
  Kingdom in a fresh\, tangible way. \nThe cost is $20 for resources.
  Don’t miss this chance to walk more closely with Jesus and live
  out His story.
SUMMARY:Lent Discipleship Nights - Easter 2025
SEQUENCE:0
STATUS:NEEDS ACTION
END:VEVENT
END:VCALENDAR