BEGIN:VCALENDAR
VERSION:2.0
PRODID:-//Advanced Intellect//aspNetEmail Calendar Writer(v4.0.0.57)//EN
METHOD:POST
BEGIN:VTIMEZONE
LAST-MODIFIED:20260423T110553Z
TZID:Eastern Standard Time
BEGIN:STANDARD
DTSTART:16010101T030000
TZOFFSETFROM:-0400
TZOFFSETTO:-0500
TZNAME:EST
RRULE:FREQ=YEARLY;BYMONTH=11;BYDAY=1SU
END:STANDARD
BEGIN:DAYLIGHT
DTSTART:16010101T020000
TZOFFSETFROM:-0500
TZOFFSETTO:-0400
TZNAME:EDT
RRULE:FREQ=YEARLY;BYMONTH=3;BYDAY=2SU
END:DAYLIGHT
END:VTIMEZONE
BEGIN:VEVENT
DTSTART;TZID="Eastern Standard Time":20250427T123000
DTEND;TZID="Eastern Standard Time":20250427T133000
UID:d765d539-6c3c-4bf5-8fd5-b5c3ce7a8c17
CREATED:20260423T150553Z
DTSTAMP:20260423T150553Z
LAST-MODIFIED:20260423T150553Z
DESCRIPTION:My Vineyard Columbus\n\nIf you are a new follower of
  Jesus\, or if you’ve recently recommitted yourself to following
  Jesus\, we would like to warmly invite you to join Faith Foundations.Thi
 s is an introduction to the Christian faith. We are here to help
  you understand what it means to say yes to Jesus. In this small
  group setting\, we will learn and discuss some of the essential
  things for the lives of disciples\; answering questions like “Who
  is God?”\, “What is prayer and how to pray?”\, and “What is the
  Bible and how do we read it?” We will meet at our Westerville campus
  on Sunday April 27 from 12:30 pm - 1:30 pm.
LOCATION:Campus: Westerville (6000 Cooper Rd Westerville\, OH 43081-8984)
  Building: Worship Center Location: Chapel 
SUMMARY:Faith Foundations Class
SEQUENCE:0
STATUS:NEEDS ACTION
END:VEVENT
END:VCALENDAR