BEGIN:VCALENDAR
VERSION:2.0
PRODID:-//Advanced Intellect//aspNetEmail Calendar Writer(v4.0.0.57)//EN
METHOD:POST
BEGIN:VTIMEZONE
LAST-MODIFIED:20260423T110531Z
TZID:Eastern Standard Time
BEGIN:STANDARD
DTSTART:16010101T030000
TZOFFSETFROM:-0400
TZOFFSETTO:-0500
TZNAME:EST
RRULE:FREQ=YEARLY;BYMONTH=11;BYDAY=1SU
END:STANDARD
BEGIN:DAYLIGHT
DTSTART:16010101T020000
TZOFFSETFROM:-0500
TZOFFSETTO:-0400
TZNAME:EDT
RRULE:FREQ=YEARLY;BYMONTH=3;BYDAY=2SU
END:DAYLIGHT
END:VTIMEZONE
BEGIN:VEVENT
DTSTART;TZID="Eastern Standard Time":20250809T100000
DTEND;TZID="Eastern Standard Time":20250809T140000
UID:35876b46-23ee-46e9-9a41-72c7d908225b
CREATED:20260423T150531Z
DTSTAMP:20260423T150531Z
LAST-MODIFIED:20260423T150531Z
DESCRIPTION:My Vineyard Columbus\n\nJoin us for a transformative
  class that delves into the teachings of Dr. Martin Luther King
  Jr. and his profound commitment to reconciliation by peaceful means.
  In "Unity and Understanding: MLK's Peaceful Means of Change\,"
  we will explore Dr. King's six principles of nonviolence and their
  application to our lives and communities today. Through engaging
  discussions\, reflective exercises\, and practical applications\,
  participants will learn how to foster unity\, promote understanding\,
  and address conflicts peacefully. This class is designed to empower
  individuals to be agents of change\, embracing the values of love\,
  compassion\, and justice in their daily interactions and broader
  social engagements\, just as Jesus has called us to do. \nChildcare
  & Lunch are provided for parents & children.
LOCATION:Campus: Westerville (6000 Cooper Rd Westerville\, OH 43081-8984)
  Building: Worship Center Location: Chapel 
SUMMARY:Unity and Understanding: MLK's Peaceful Means of Change
SEQUENCE:0
STATUS:NEEDS ACTION
END:VEVENT
END:VCALENDAR