BEGIN:VCALENDAR
VERSION:2.0
PRODID:-//Advanced Intellect//aspNetEmail Calendar Writer(v4.0.0.57)//EN
METHOD:POST
BEGIN:VTIMEZONE
LAST-MODIFIED:20260423T083221Z
TZID:Eastern Standard Time
BEGIN:STANDARD
DTSTART:16010101T030000
TZOFFSETFROM:-0400
TZOFFSETTO:-0500
TZNAME:EST
RRULE:FREQ=YEARLY;BYMONTH=11;BYDAY=1SU
END:STANDARD
BEGIN:DAYLIGHT
DTSTART:16010101T020000
TZOFFSETFROM:-0500
TZOFFSETTO:-0400
TZNAME:EDT
RRULE:FREQ=YEARLY;BYMONTH=3;BYDAY=2SU
END:DAYLIGHT
END:VTIMEZONE
BEGIN:VEVENT
DTSTART;TZID="Eastern Standard Time":20250714T190000
DTEND;TZID="Eastern Standard Time":20250714T210000
UID:5dc831fb-182b-4350-9c5a-68bcb1722d23
CREATED:20260423T123221Z
DTSTAMP:20260423T123221Z
LAST-MODIFIED:20260423T123221Z
DESCRIPTION:My Vineyard Columbus\n\nA 6-part discipleship series
  that applies the biblical metanarrative of Creation / Fall / Redemption
  / Restoration to our ethnic identities and people groups. Throughout
  the highly interactive sessions we study Scripture\, learn more
  about multiethnicity\, and experience the Holy Spirit’s healing
  and empowering through prayer ministry. No childcare is provided.
LOCATION:Campus: Westerville (6000 Cooper Rd Westerville\, OH 43081-8984)
  Building: Worship Center Location: Chapel 
SUMMARY:Quick to Listen: Discipleship for God’s Multiethnic Kingdom
  
SEQUENCE:0
STATUS:NEEDS ACTION
END:VEVENT
END:VCALENDAR