BEGIN:VCALENDAR
VERSION:2.0
PRODID:-//Advanced Intellect//aspNetEmail Calendar Writer(v4.0.0.57)//EN
METHOD:POST
BEGIN:VTIMEZONE
LAST-MODIFIED:20260423T183530Z
TZID:Eastern Standard Time
BEGIN:STANDARD
DTSTART:16010101T030000
TZOFFSETFROM:-0400
TZOFFSETTO:-0500
TZNAME:EST
RRULE:FREQ=YEARLY;BYMONTH=11;BYDAY=1SU
END:STANDARD
BEGIN:DAYLIGHT
DTSTART:16010101T020000
TZOFFSETFROM:-0500
TZOFFSETTO:-0400
TZNAME:EDT
RRULE:FREQ=YEARLY;BYMONTH=3;BYDAY=2SU
END:DAYLIGHT
END:VTIMEZONE
BEGIN:VEVENT
DTSTART;TZID="Eastern Standard Time":20250727T130000
DTEND;TZID="Eastern Standard Time":20250727T143000
UID:05835d1e-c9ef-46e8-9c62-85f42b4a63c8
CREATED:20260423T223530Z
DTSTAMP:20260423T223530Z
LAST-MODIFIED:20260423T223530Z
DESCRIPTION:My Vineyard Columbus\n\nThis seminar is for couples
  in their late 30’s through 60’s embracing all the opportunities
  and challenges of marriage in midlife. Are you and your spouse
  raising kids while also caring for aging parents? Have your roles
  and responsibilities shifted due to children moving out\, or a
  change in health or career? Are you and your spouse hungry for
  connection during a season of change? If any of these apply\, we
  invite you to join us for encouragement and practical strategies
  to thrive in this stage of marriage.
LOCATION:Campus: Westerville (6000 Cooper Rd Westerville\, OH 43081-8984)
  Building: Worship Center Location: EL.01 
SUMMARY:Marriage in Midlife: Marriage Seminar
SEQUENCE:0
STATUS:NEEDS ACTION
END:VEVENT
END:VCALENDAR