BEGIN:VCALENDAR
VERSION:2.0
PRODID:-//Advanced Intellect//aspNetEmail Calendar Writer(v4.0.0.57)//EN
METHOD:POST
BEGIN:VTIMEZONE
LAST-MODIFIED:20260423T083205Z
TZID:Eastern Standard Time
BEGIN:STANDARD
DTSTART:16010101T030000
TZOFFSETFROM:-0400
TZOFFSETTO:-0500
TZNAME:EST
RRULE:FREQ=YEARLY;BYMONTH=11;BYDAY=1SU
END:STANDARD
BEGIN:DAYLIGHT
DTSTART:16010101T020000
TZOFFSETFROM:-0500
TZOFFSETTO:-0400
TZNAME:EDT
RRULE:FREQ=YEARLY;BYMONTH=3;BYDAY=2SU
END:DAYLIGHT
END:VTIMEZONE
BEGIN:VEVENT
DTSTART;TZID="Eastern Standard Time":20250808T190000
DTEND;TZID="Eastern Standard Time":20250808T220000
UID:5af4eff4-f940-4f8c-9fd4-7d25f2582b75
CREATED:20260423T123205Z
DTSTAMP:20260423T123205Z
LAST-MODIFIED:20260423T123205Z
DESCRIPTION:My Vineyard Columbus\n\nJoin us for a fun evening at
  the ballpark watching the Columbus Clippers! Game tickets are available
  for a discounted $5/person\, and must be picked up at Vineyard
  Columbus ahead of time. (Attendees will be responsible for purchasing
  their own concessions\, parking fees\, etc.) Families are welcome\;
  tickets are limited\, so reserve your spot now! Questions can be
  directed to jerome.smith@vineyardcolumbus.org.\n 
SUMMARY:Columbus Clippers Game
SEQUENCE:0
STATUS:NEEDS ACTION
END:VEVENT
END:VCALENDAR