BEGIN:VCALENDAR
VERSION:2.0
PRODID:-//Advanced Intellect//aspNetEmail Calendar Writer(v4.0.0.57)//EN
METHOD:POST
BEGIN:VTIMEZONE
LAST-MODIFIED:20260422T050119Z
TZID:Eastern Standard Time
BEGIN:STANDARD
DTSTART:16010101T030000
TZOFFSETFROM:-0400
TZOFFSETTO:-0500
TZNAME:EST
RRULE:FREQ=YEARLY;BYMONTH=11;BYDAY=1SU
END:STANDARD
BEGIN:DAYLIGHT
DTSTART:16010101T020000
TZOFFSETFROM:-0500
TZOFFSETTO:-0400
TZNAME:EDT
RRULE:FREQ=YEARLY;BYMONTH=3;BYDAY=2SU
END:DAYLIGHT
END:VTIMEZONE
BEGIN:VEVENT
DTSTART;TZID="Eastern Standard Time":20250917T183000
DTEND;TZID="Eastern Standard Time":20250917T203000
UID:bfb5d7c4-e57a-43bb-ad06-64e5fcfbe57f
CREATED:20260422T090119Z
DTSTAMP:20260422T090119Z
LAST-MODIFIED:20260422T090119Z
DESCRIPTION:My Vineyard Columbus\n\nBIG Small Group (BSG) is designed
  as a first step to help people connect with others and grow in
  their relationship with God. Each week we meet as a larger community
  to hear thoughtful teaching then break into smaller groups to discuss
  and pray for one another. 
LOCATION:Campus: Westerville (6000 Cooper Rd Westerville\, OH 43081-8984)
  Building: Ministry Center Location: 2nd Flr MC 
SUMMARY:Big Small Group - Westerville
SEQUENCE:0
STATUS:NEEDS ACTION
END:VEVENT
END:VCALENDAR