BEGIN:VCALENDAR
VERSION:2.0
PRODID:-//Advanced Intellect//aspNetEmail Calendar Writer(v4.0.0.57)//EN
METHOD:POST
BEGIN:VTIMEZONE
LAST-MODIFIED:20260423T082555Z
TZID:Eastern Standard Time
BEGIN:STANDARD
DTSTART:16010101T030000
TZOFFSETFROM:-0400
TZOFFSETTO:-0500
TZNAME:EST
RRULE:FREQ=YEARLY;BYMONTH=11;BYDAY=1SU
END:STANDARD
BEGIN:DAYLIGHT
DTSTART:16010101T020000
TZOFFSETFROM:-0500
TZOFFSETTO:-0400
TZNAME:EDT
RRULE:FREQ=YEARLY;BYMONTH=3;BYDAY=2SU
END:DAYLIGHT
END:VTIMEZONE
BEGIN:VEVENT
DTSTART;TZID="Eastern Standard Time":20251104T183000
DTEND;TZID="Eastern Standard Time":20251104T203000
UID:a45579ab-2336-47a5-ac9f-cbf7e32d100d
CREATED:20260423T122555Z
DTSTAMP:20260423T122555Z
LAST-MODIFIED:20260423T122555Z
DESCRIPTION:My Vineyard Columbus\n\nThis Big Small Group (BSG)
  is designed to help married couples grow in their relationship
  with their spouse & with God\, while connecting with other couples.
  Each week we will meet as a larger community to hear thoughtful
  teaching on a specific marriage topic (such as Communication\,
  Finances & Shared Spiritual Life) and then break into small groups
  to discuss the teaching and pray for one another. This session
  meets Tuesdays from 6:30-8:30. Registration is recommended for
  participation. Childcare (ages 1-12) is provided and requires registrati
 on. Please contact marriage@vineyardcolumbus with any questions. 
LOCATION:Campus: Westerville (6000 Cooper Rd Westerville\, OH 43081-8984)
  Building: Worship Center Location: Chapel 
SUMMARY:Married Couples Big Small Group
SEQUENCE:0
STATUS:NEEDS ACTION
END:VEVENT
END:VCALENDAR