BEGIN:VCALENDAR
VERSION:2.0
PRODID:-//Advanced Intellect//aspNetEmail Calendar Writer(v4.0.0.57)//EN
METHOD:POST
BEGIN:VTIMEZONE
LAST-MODIFIED:20260423T003541Z
TZID:Eastern Standard Time
BEGIN:STANDARD
DTSTART:16010101T030000
TZOFFSETFROM:-0400
TZOFFSETTO:-0500
TZNAME:EST
RRULE:FREQ=YEARLY;BYMONTH=11;BYDAY=1SU
END:STANDARD
BEGIN:DAYLIGHT
DTSTART:16010101T020000
TZOFFSETFROM:-0500
TZOFFSETTO:-0400
TZNAME:EDT
RRULE:FREQ=YEARLY;BYMONTH=3;BYDAY=2SU
END:DAYLIGHT
END:VTIMEZONE
BEGIN:VEVENT
DTSTART;TZID="Eastern Standard Time":20251123T124500
DTEND;TZID="Eastern Standard Time":20251123T140000
UID:1fd40966-0449-4864-9c96-0c1efd4fac1f
CREATED:20260423T043541Z
DTSTAMP:20260423T043541Z
LAST-MODIFIED:20260423T043541Z
DESCRIPTION:My Vineyard Columbus\n\nJoin us in person for Estate
  Planning Workshop hosted by Financial Planning Ministry. We often
  plan ahead for celebrations like births\, birthdays\, weddings\,
  anniversaries\, etc. but planning for life after we are no longer
  here can be overwhelming. Having a living will and trust are two
  very important steps in leaving a legacy for our families! Register
  today for this FREE workshop with a professional Estate Planner
  from the Financial Planning Ministry to learn more and create these
  valuable documents that will bring you peace of mind by avoiding
  unnecessary and costly mistakes when securing your loved one's
  future. Light lunch provided - please register \n**Childcare is
  provided for this event.**
LOCATION:Campus: Westerville (6000 Cooper Rd Westerville\, OH 43081-8984)
  Building: Ministry Center Location: 2nd Flr MC 
SUMMARY:Estate Planning Workshop
SEQUENCE:0
STATUS:NEEDS ACTION
END:VEVENT
END:VCALENDAR