BEGIN:VCALENDAR
VERSION:2.0
PRODID:-//Advanced Intellect//aspNetEmail Calendar Writer(v4.0.0.57)//EN
METHOD:POST
BEGIN:VTIMEZONE
LAST-MODIFIED:20260423T132038Z
TZID:Eastern Standard Time
BEGIN:STANDARD
DTSTART:16010101T030000
TZOFFSETFROM:-0400
TZOFFSETTO:-0500
TZNAME:EST
RRULE:FREQ=YEARLY;BYMONTH=11;BYDAY=1SU
END:STANDARD
BEGIN:DAYLIGHT
DTSTART:16010101T020000
TZOFFSETFROM:-0500
TZOFFSETTO:-0400
TZNAME:EDT
RRULE:FREQ=YEARLY;BYMONTH=3;BYDAY=2SU
END:DAYLIGHT
END:VTIMEZONE
BEGIN:VEVENT
DTSTART;TZID="Eastern Standard Time":20251109T000000
DTEND;TZID="Eastern Standard Time":20251109T000000
UID:e1158090-6ed2-4dae-ba8b-88e4745d43c7
CREATED:20260423T172038Z
DTSTAMP:20260423T172038Z
LAST-MODIFIED:20260423T172038Z
DESCRIPTION:My Vineyard Columbus\n\nNovember 9\, 2025\nWant to
  learn more about what makes Vineyard Columbus unique? Join the
  Vineyard is your next step toward connection and membership. In
  this class\, we build on what’s shared in our Welcome to Vineyard
  meetups and take a deeper look at who we are as a church—our story\,
  vision\, and values—and how you can find your place in what God
  is doing through our community. \nIf you haven’t yet attended
  a Welcome to Vineyard meetup\, we encourage you to do so before
  this class\, or watch this video for an overview of who we are
  and what we believe. \nLunch and childcare are provided\, and
  registration is appreciated so we can plan accordingly for food
  and childcare.
SUMMARY:Join the Vineyard
SEQUENCE:0
STATUS:NEEDS ACTION
END:VEVENT
END:VCALENDAR